BEGIN:VCALENDAR
VERSION:2.0
PRODID:-//Rotary Youth Exchange Houston - ECPv6.15.20//NONSGML v1.0//EN
CALSCALE:GREGORIAN
METHOD:PUBLISH
X-WR-CALNAME:Rotary Youth Exchange Houston
X-ORIGINAL-URL:https://www.ryehouston.com
X-WR-CALDESC:Events for Rotary Youth Exchange Houston
REFRESH-INTERVAL;VALUE=DURATION:PT1H
X-Robots-Tag:noindex
X-PUBLISHED-TTL:PT1H
BEGIN:VTIMEZONE
TZID:America/Chicago
BEGIN:DAYLIGHT
TZOFFSETFROM:-0600
TZOFFSETTO:-0500
TZNAME:CDT
DTSTART:20190310T080000
END:DAYLIGHT
BEGIN:STANDARD
TZOFFSETFROM:-0500
TZOFFSETTO:-0600
TZNAME:CST
DTSTART:20191103T070000
END:STANDARD
BEGIN:DAYLIGHT
TZOFFSETFROM:-0600
TZOFFSETTO:-0500
TZNAME:CDT
DTSTART:20200308T080000
END:DAYLIGHT
BEGIN:STANDARD
TZOFFSETFROM:-0500
TZOFFSETTO:-0600
TZNAME:CST
DTSTART:20201101T070000
END:STANDARD
BEGIN:DAYLIGHT
TZOFFSETFROM:-0600
TZOFFSETTO:-0500
TZNAME:CDT
DTSTART:20210314T080000
END:DAYLIGHT
BEGIN:STANDARD
TZOFFSETFROM:-0500
TZOFFSETTO:-0600
TZNAME:CST
DTSTART:20211107T070000
END:STANDARD
END:VTIMEZONE
BEGIN:VTIMEZONE
TZID:UTC
BEGIN:STANDARD
TZOFFSETFROM:+0000
TZOFFSETTO:+0000
TZNAME:UTC
DTSTART:20180101T000000
END:STANDARD
END:VTIMEZONE
BEGIN:VEVENT
DTSTART;TZID=America/Chicago:20200405T163000
DTEND;TZID=America/Chicago:20200405T193000
DTSTAMP:20260423T193407
CREATED:20200216T180450Z
LAST-MODIFIED:20200216T180450Z
UID:1218-1586104200-1586115000@www.ryehouston.com
SUMMARY:Host Family D5890 Appreciation Dinner
DESCRIPTION:
URL:https://www.ryehouston.com/calendar/host-family-d5890-appreciation-dinner/
LOCATION:Humble Civic Center\, 8233 Will Clayton Pkwy\, Humble\, TX\, 77338\, United States
CATEGORIES:Inbound,Parents,Rotarians,Rotex
END:VEVENT
BEGIN:VEVENT
DTSTART;TZID=UTC:20200118T080000
DTEND;TZID=UTC:20200118T170000
DTSTAMP:20260423T193407
CREATED:20190623T003922Z
LAST-MODIFIED:20190623T004933Z
UID:765-1579334400-1579366800@www.ryehouston.com
SUMMARY:Long Term - Outbound Orientation 1
DESCRIPTION:
URL:https://www.ryehouston.com/calendar/long-term-outbound-orientation-1/
LOCATION:University of St. Thomas
CATEGORIES:Long-Term,Outbound,Rotarians,Rotex,Students
END:VEVENT
BEGIN:VEVENT
DTSTART;TZID=UTC:20190623T080000
DTEND;TZID=UTC:20190623T170000
DTSTAMP:20260423T193407
CREATED:20190623T003627Z
LAST-MODIFIED:20190623T003627Z
UID:763-1561276800-1561309200@www.ryehouston.com
SUMMARY:RYE District Interviews
DESCRIPTION:
URL:https://www.ryehouston.com/calendar/rye-district-interviews/
LOCATION:TX
CATEGORIES:All,Inbound,Outbound,Parents,Rotarians,Rotex,Students
END:VEVENT
END:VCALENDAR